Workbook

Sheet OPERAI
A1: DIPENDENTE 1 | F1: DIPENDENTE 2 | K1: DIPENDENTE 3
A2: MESE | B2: ORDINARIE | C2: LAVORABILI | D2: %ASSENZA | F2: MESE | G2: ORDINARIE | H2: LAVORABILI | I2: %ASSENZA | K2: MESE | L2: ORDINARIE | M2: LAVORABILI | N2: %ASSENZA
A3: 43831 | B3: 138 | C3: 160.5 | D3: =100-(B3*100)/C3 -> 14.018692 | F3: 43831 | G3: 146 | H3: 161 | I3: =100-(G3*100)/H3 -> 9.3167702 | K3: 43831
A4: 43862 | B4: 157 | C4: 160 | D4: =100-(B4*100)/C4 -> 1.875 | F4: 43862 | G4: 150.5 | H4: 154 | I4: =100-(G4*100)/H4 -> 2.2727273 | K4: 43862
A5: 43891 | B5: 167 | C5: 167 | D5: =100-(B5*100)/C5 -> 0 | F5: 43891 | G5: 123.5 | H5: 169.5 | I5: =100-(G5*100)/H5 -> 27.138643 | K5: 43891
A6: 43922 | B6: 154.5 | C6: 154.5 | D6: =100-(B6*100)/C6 -> 0 | F6: 43922 | G6: 63 | H6: 161.5 | I6: =100-(G6*100)/H6 -> 60.990712 | K6: 43922
A7: 43952 | B7: 29 | C7: 153.5 | D7: =100-(B7*100)/C7 -> 81.107492 | F7: 43952 | G7: 54 | H7: 146 | I7: =100-(G7*100)/H7 -> 63.013699 | K7: 43952
A8: 43983 | B8: 119 | C8: 160.5 | D8: =100-(B8*100)/C8 -> 25.856698 | F8: 43983 | G8: 154 | H8: 162 | I8: =100-(G8*100)/H8 -> 4.9382716 | K8: 43983
A9: 44013 | B9: 141 | C9: 173.5 | D9: =100-(B9*100)/C9 -> 18.731988 | F9: 44013 | G9: 123 | H9: 177 | I9: =100-(G9*100)/H9 -> 30.508475 | K9: 44013
A10: 44044 | B10: 80.5 | C10: 160.5 | D10: =100-(B10*100)/C10 -> 49.844237 | F10: 44044 | G10: 81.5 | H10: 162 | I10: =100-(G10*100)/H10 -> 49.691358 | K10: 44044
A11: 44075 | B11: 167 | C11: 167 | D11: =100-(B11*100)/C11 -> 0 | F11: 44075 | G11: 169.5 | H11: 169.5 | I11: =100-(G11*100)/H11 -> 0 | K11: 44075 | L11: 169.5 | M11: 169.5 | N11: =100-(L11*100)/M11 -> 0
A12: 44105 | B12: 173 | C12: 173 | D12: =100-(B12*100)/C12 -> 0 | F12: 44105 | G12: 169 | H12: 169 | I12: =100-(G12*100)/H12 -> 0 | K12: 44105 | L12: 169 | M12: 169 | N12: =100-(L12*100)/M12 -> 0
A13: 44136 | B13: 154.5 | C13: 160.5 | D13: =100-(B13*100)/C13 -> 3.7383178 | F13: 44136 | G13: 162 | H13: 162 | I13: =100-(G13*100)/H13 -> 0 | K13: 44136 | L13: 162 | M13: 162 | N13: =100-(L13*100)/M13 -> 0
A14: 44166 | B14: 110 | C14: 154.5 | D14: =100-(B14*100)/C14 -> 28.802589 | F14: 44166 | G14: 143 | H14: 162 | I14: =100-(G14*100)/H14 -> 11.728395 | K14: 44166 | L14: 147 | M14: 162 | N14: =100-(L14*100)/M14 -> 9.2592593
A16: tot. | B16: =B3+B4+B5+B6+B7+B9+B8+B10+B11+B12+B14+B13 -> 1590.5 | C16: =C3+C4+C5+C6+C7+C8+C9+C10+C11+C12+C13+C14 -> 1945 | D16: =100-(B16*100)/C16 -> 18.226221 | F16: tot. | G16: =G3+G4+G5+G6+G7+G9+G8+G10+G11+G12+G14+G13 -> 1539 | H16: =H3+H4+H5+H6+H7+H9+H8+H10+H11+H12+H14+H13 -> 1955.5 | I16: =100-(G16*100)/H16 -> 21.298901 | K16: tot. | L16: =L3+L4+L5+L6+L7+L9+L8+L10+L11+L12+L14+L13 -> 647.5 | M16: =M3+M4+M5+M6+M7+M9+M8+M10+M11+M12+M14+M13 -> 662.5 | N16: =100-(L16*100)/M16 -> 2.2641509
A19: OPERAI (Tot. 3 dipendenti)
G20: ORE ORDINARIE | I20: ORE LAVORABILI | K20: % ASSENZA
A21: TASSO % ASSENZA PRIMO TRIMESTRE ANNO 2020 | G21: =B3+B4+B5+G3+G4+G5+L3+L4+L5 -> 882 | I21: =C3+C4+C5+H3+H4+H5+M3+M4+M5 -> 972 | K21: =100-(G21*100)/I21 -> 9.2592593
A22: TASSO % ASSENZA SECONDO TRIMESTRE ANNO 2020 | G22: =B6+B7+B8+G6+G7+G8+L6+L7+L8 -> 573.5 | I22: =C6+C7+C8+H6+H7+H8+M6+M7+M8 -> 938 | K22: =100-(G22*100)/I22 -> 38.859275
A23: TASSO % ASSENZA TERZO TRIMESTRE ANNO 2020 | G23: =B9+B10+B11+G9+G10+G11+L9+L10+L11 -> 932 | I23: =C9+C10+C11+H9+H10+H11+M9+M10+M11 -> 1179 | K23: =100-(G23*100)/I23 -> 20.949958
A24: TASSO % ASSENZA QUARTO TRIMESTRE ANNO 2020 | G24: =B12+B13+B14+G12+G13+G14+L12+L13+L14 -> 1389.5 | I24: =C12+C13+C14+H12+H13+H14+M12+M13+M14 -> 1474 | K24: =100-(G24*100)/I24 -> 5.7327001

Sheet UFFICO AMMINISTRATIVO
A1: DIPENDENTE 1 | F1: DIPENDENTE 2 | K1: DIPENDENTE 3
A2: MESE | B2: ORDINARIE | C2: LAVORABILI | D2: %ASSENZA | F2: MESE | G2: ORDINARIE | H2: LAVORABILI | I2: %ASSENZA | K2: MESE | L2: ORDINARIE | M2: LAVORABILI | N2: %ASSENZA
A3: 43831 | B3: 153 | C3: 161 | D3: =100-(B3*100)/C3 -> 4.9689441 | F3: 43831 | G3: 161 | H3: 161 | I3: =100-(G3*100)/H3 -> 0 | K3: 43831
A4: 43862 | B4: 130.5 | C4: 154 | D4: =100-(B4*100)/C4 -> 15.25974 | F4: 43862 | G4: 154 | H4: 154 | I4: =100-(G4*100)/H4 -> 0 | K4: 43862
A5: 43891 | B5: 169.5 | C5: 169.5 | D5: =100-(B5*100)/C5 -> 0 | F5: 43891 | G5: 38.5 | H5: 169.5 | I5: =100-(G5*100)/H5 -> 77.286136 | K5: 43891 | L5: 77 | M5: 169.5 | N5: =100-(L5*100)/M5 -> 54.572271
A6: 43922 | B6: 88 | C6: 161.5 | D6: =100-(B6*100)/C6 -> 45.510836 | F6: 43922 | H6: 161.5 | I6: =100-(G6*100)/H6 -> 100 | K6: 43922 | M6: 161.5 | N6: =100-(L6*100)/M6 -> 100
A7: 43952 | B7: 94.5 | C7: 146 | D7: =100-(B7*100)/C7 -> 35.273973 | F7: 43952 | G7: 66.5 | H7: 146 | I7: =100-(G7*100)/H7 -> 54.452055 | K7: 43952 | L7: 55 | M7: 146 | N7: =100-(L7*100)/M7 -> 62.328767
A8: 43983 | B8: 162 | C8: 162 | D8: =100-(B8*100)/C8 -> 0 | F8: 43983 | G8: 162 | H8: 162 | I8: =100-(G8*100)/H8 -> 0 | K8: 43983 | L8: 116 | M8: 162 | N8: =100-(L8*100)/M8 -> 28.395062
A9: 44013 | B9: 138.5 | C9: 177 | D9: =100-(B9*100)/C9 -> 21.751412 | F9: 44013 | G9: 169.5 | H9: 177 | I9: =100-(G9*100)/H9 -> 4.2372881 | K9: 44013 | M9: 177 | N9: =100-(L9*100)/M9 -> 100
A10: 44044 | B10: 120 | C10: 162 | D10: =100-(B10*100)/C10 -> 25.925926 | F10: 44044 | G10: 101 | H10: 162 | I10: =100-(G10*100)/H10 -> 37.654321 | K10: 44044 | M10: 162 | N10: =100-(L10*100)/M10 -> 100
A11: 44075 | B11: 169.5 | C11: 169.5 | D11: =100-(B11*100)/C11 -> 0 | F11: 44075 | G11: 162 | H11: 169.5 | I11: =100-(G11*100)/H11 -> 4.4247788 | K11: 44075 | M11: 169.5 | N11: =100-(L11*100)/M11 -> 100
A12: 44105 | B12: 165.5 | C12: 169 | D12: =100-(B12*100)/C12 -> 2.0710059 | F12: 44105 | G12: 161 | H12: 169 | I12: =100-(G12*100)/H12 -> 4.7337278 | K12: 44105 | M12: 169 | N12: =100-(L12*100)/M12 -> 100
A13: 44136 | B13: 138.5 | C13: 162 | D13: =100-(B13*100)/C13 -> 14.506173 | F13: 44136 | G13: 162 | H13: 162 | I13: =100-(G13*100)/H13 -> 0 | K13: 44136 | M13: 131 | N13: =100-(L13*100)/M13 -> 100
A14: 44166 | B14: 123 | C14: 162 | D14: =100-(B14*100)/C14 -> 24.074074 | F14: 44166 | G14: 139 | H14: 162 | I14: =100-(G14*100)/H14 -> 14.197531 | K14: 44166
A16: tot. | B16: =B3+B4+B5+B6+B7+B9+B8+B10+B11+B12+B14+B13 -> 1652.5 | C16: =C3+C4+C5+C6+C7+C8+C9+C10+C11+C12+C13+C14 -> 1955.5 | D16: =100-(B16*100)/C16 -> 15.494758 | F16: tot. | G16: =G3+G4+G5+G6+G7+G9+G8+G10+G11+G12+G14+G13 -> 1476.5 | H16: =H3+H4+H5+H6+H7+H9+H8+H10+H11+H12+H14+H13 -> 1955.5 | I16: =100-(G16*100)/H16 -> 24.495014 | K16: tot. | L16: =L3+L4+L5+L6+L7+L9+L8+L10+L11+L12+L14+L13 -> 248 | M16: =M3+M4+M5+M6+M7+M9+M8+M10+M11+M12+M14+M13 -> 1447.5 | N16: =100-(L16*100)/M16 -> 82.867012
A19: UFFICIO AMMINISTRATIVO (Tot. 3 dipendenti)
G20: ORE ORDINARIE | I20: ORE LAVORABILI | K20: % ASSENZA
A21: TASSO % ASSENZA PRIMO TRIMESTRE ANNO 2020 | G21: =B3+B4+B5+G3+G4+G5+L3+L4+L5 -> 883.5 | I21: =C3+C4+C5+H3+H4+H5+M3+M4+M5 -> 1138.5 | K21: =100-(G21*100)/I21 -> 22.397892
A22: TASSO % ASSENZA SECONDO TRIMESTRE ANNO 2020 | G22: =B6+B7+B8+G6+G7+G8+L6+L7+L8 -> 744 | I22: =C6+C7+C8+H6+H7+H8+M6+M7+M8 -> 1408.5 | K22: =100-(G22*100)/I22 -> 47.177849
A23: TASSO % ASSENZA TERZO TRIMESTRE ANNO 2020 | G23: =B9+B10+B11+G9+G10+G11+L9+L10+L11 -> 860.5 | I23: =C9+C10+C11+H9+H10+H11+M9+M10+M11 -> 1525.5 | K23: =100-(G23*100)/I23 -> 43.592265
A24: TASSO % ASSENZA QUARTO TRIMESTRE ANNO 2020 | G24: =B12+B13+B14+G12+G13+G14+L12+L13+L14 -> 889 | I24: =C12+C13+C14+H12+H13+H14+M12+M13+M14 -> 1286 | K24: =100-(G24*100)/I24 -> 30.870918

Sheet UFFICO TECNICO
A1: DIPENDENTE 1
A2: MESE | B2: ORDINARIE | C2: LAVORABILI | D2: %ASSENZA
A3: 43831 | B3: 157 | C3: 161 | D3: =100-(B3*100)/C3 -> 2.484472
A4: 43862 | B4: 115.5 | C4: 154 | D4: =100-(B4*100)/C4 -> 25
A5: 43891 | B5: 154.5 | C5: 169.5 | D5: =100-(B5*100)/C5 -> 8.8495575
A6: 43922 | B6: 98 | C6: 161.5 | D6: =100-(B6*100)/C6 -> 39.318885
A7: 43952 | B7: 146 | C7: 146 | D7: =100-(B7*100)/C7 -> 0
A8: 43983 | B8: 146.5 | C8: 162 | D8: =100-(B8*100)/C8 -> 9.5679012
A9: 44013 | B9: 107.5 | C9: 177 | D9: =100-(B9*100)/C9 -> 39.265537
A10: 44044 | B10: 155 | C10: 162 | D10: =100-(B10*100)/C10 -> 4.3209877
A11: 44075 | B11: 166 | C11: 169.5 | D11: =100-(B11*100)/C11 -> 2.0648968
A12: 44105 | B12: 154.5 | C12: 169 | D12: =100-(B12*100)/C12 -> 8.5798817
A13: 44136 | B13: 139.5 | C13: 162 | D13: =100-(B13*100)/C13 -> 13.888889
A14: 44166 | B14: 113.5 | C14: 162 | D14: =100-(B14*100)/C14 -> 29.938272
A16: tot. | B16: =B3+B4+B5+B6+B7+B9+B8+B10+B11+B12+B14+B13 -> 1653.5 | C16: =C3+C4+C5+C6+C7+C8+C9+C10+C11+C12+C13+C14 -> 1955.5 | D16: =100-(B16*100)/C16 -> 15.443621
A19: UFFICIO TECNICO (Tot. 1 dipendente)
G20: ORE ORDINARIE | I20: ORE LAVORABILI | K20: % ASSENZA
A21: TASSO % ASSENZA PRIMO TRIMESTRE ANNO 2020 | G21: =B3+B4+B5+G3+G4+G5+L3+L4+L5 -> 427 | I21: =C3+C4+C5+H3+H4+H5+M3+M4+M5 -> 484.5 | K21: =100-(G21*100)/I21 -> 11.867905
A22: TASSO % ASSENZA SECONDO TRIMESTRE ANNO 2020 | G22: =B6+B7+B8+G6+G7+G8+L6+L7+L8 -> 390.5 | I22: =C6+C7+C8+H6+H7+H8+M6+M7+M8 -> 469.5 | K22: =100-(G22*100)/I22 -> 16.826411
A23: TASSO % ASSENZA TERZO TRIMESTRE ANNO 2020 | G23: =B9+B10+B11+G9+G10+G11+L9+L10+L11 -> 428.5 | I23: =C9+C10+C11+H9+H10+H11+M9+M10+M11 -> 508.5 | K23: =100-(G23*100)/I23 -> 15.732547
A24: TASSO % ASSENZA QUARTO TRIMESTRE ANNO 2020 | G24: =B12+B13+B14+G12+G13+G14+L12+L13+L14 -> 407.5 | I24: =C12+C13+C14+H12+H13+H14+M12+M13+M14 -> 493 | K24: =100-(G24*100)/I24 -> 17.342799

Sheet Foglio1
A1: ='UFFICO TECNICO'!A19 -> UFFICIO TECNICO (Tot. 1 dipendente)
G2: ='UFFICO TECNICO'!G20 -> ORE ORDINARIE | I2: ='UFFICO TECNICO'!I20 -> ORE LAVORABILI | K2: ='UFFICO TECNICO'!K20 -> % ASSENZA
A3: ='UFFICO TECNICO'!A21 -> TASSO % ASSENZA PRIMO TRIMESTRE ANNO 2020 | G3: ='UFFICO TECNICO'!G21 -> 427 | I3: ='UFFICO TECNICO'!I21 -> 484.5 | K3: ='UFFICO TECNICO'!K21 -> 11.867905
A4: ='UFFICO TECNICO'!A22 -> TASSO % ASSENZA SECONDO TRIMESTRE ANNO 2020 | G4: ='UFFICO TECNICO'!G22 -> 390.5 | I4: ='UFFICO TECNICO'!I22 -> 469.5 | K4: ='UFFICO TECNICO'!K22 -> 16.826411
A5: ='UFFICO TECNICO'!A23 -> TASSO % ASSENZA TERZO TRIMESTRE ANNO 2020 | G5: ='UFFICO TECNICO'!G23 -> 428.5 | I5: ='UFFICO TECNICO'!I23 -> 508.5 | K5: ='UFFICO TECNICO'!K23 -> 15.732547
A6: ='UFFICO TECNICO'!A24 -> TASSO % ASSENZA QUARTO TRIMESTRE ANNO 2020 | G6: ='UFFICO TECNICO'!G24 -> 407.5 | I6: ='UFFICO TECNICO'!I24 -> 493 | K6: ='UFFICO TECNICO'!K24 -> 17.342799
A8: ='UFFICO AMMINISTRATIVO'!A19 -> UFFICIO AMMINISTRATIVO (Tot. 3 dipendenti)
G9: ='UFFICO AMMINISTRATIVO'!G20 -> ORE ORDINARIE | I9: ='UFFICO AMMINISTRATIVO'!I20 -> ORE LAVORABILI | K9: ='UFFICO AMMINISTRATIVO'!K20 -> % ASSENZA
A10: ='UFFICO AMMINISTRATIVO'!A21 -> TASSO % ASSENZA PRIMO TRIMESTRE ANNO 2020 | G10: ='UFFICO AMMINISTRATIVO'!G21 -> 883.5 | I10: ='UFFICO AMMINISTRATIVO'!I21 -> 1138.5 | K10: ='UFFICO AMMINISTRATIVO'!K21 -> 22.397892
A11: ='UFFICO AMMINISTRATIVO'!A22 -> TASSO % ASSENZA SECONDO TRIMESTRE ANNO 2020 | G11: ='UFFICO AMMINISTRATIVO'!G22 -> 744 | I11: ='UFFICO AMMINISTRATIVO'!I22 -> 1408.5 | K11: ='UFFICO AMMINISTRATIVO'!K22 -> 47.177849
A12: ='UFFICO AMMINISTRATIVO'!A23 -> TASSO % ASSENZA TERZO TRIMESTRE ANNO 2020 | G12: ='UFFICO AMMINISTRATIVO'!G23 -> 860.5 | I12: ='UFFICO AMMINISTRATIVO'!I23 -> 1525.5 | K12: ='UFFICO AMMINISTRATIVO'!K23 -> 43.592265
A13: ='UFFICO AMMINISTRATIVO'!A24 -> TASSO % ASSENZA QUARTO TRIMESTRE ANNO 2020 | G13: ='UFFICO AMMINISTRATIVO'!G24 -> 889 | I13: ='UFFICO AMMINISTRATIVO'!I24 -> 1286 | K13: ='UFFICO AMMINISTRATIVO'!K24 -> 30.870918
A15: =OPERAI!A19 -> OPERAI (Tot. 3 dipendenti)
G16: =OPERAI!G20 -> ORE ORDINARIE | I16: =OPERAI!I20 -> ORE LAVORABILI | K16: =OPERAI!K20 -> % ASSENZA
A17: =OPERAI!A21 -> TASSO % ASSENZA PRIMO TRIMESTRE ANNO 2020 | G17: =OPERAI!G21 -> 882 | I17: =OPERAI!I21 -> 972 | K17: =OPERAI!K21 -> 9.2592593
A18: =OPERAI!A22 -> TASSO % ASSENZA SECONDO TRIMESTRE ANNO 2020 | G18: =OPERAI!G22 -> 573.5 | I18: =OPERAI!I22 -> 938 | K18: =OPERAI!K22 -> 38.859275
A19: =OPERAI!A23 -> TASSO % ASSENZA TERZO TRIMESTRE ANNO 2020 | G19: =OPERAI!G23 -> 932 | I19: =OPERAI!I23 -> 1179 | K19: =OPERAI!K23 -> 20.949958
A20: =OPERAI!A24 -> TASSO % ASSENZA QUARTO TRIMESTRE ANNO 2020 | G20: =OPERAI!G24 -> 1389.5 | I20: =OPERAI!I24 -> 1474 | K20: =OPERAI!K24 -> 5.7327001
